BEGIN:VCALENDAR
VERSION:2.0
BEGIN:VEVENT
UID:http://www.icalmaker.com/event/aafbd08a-d13c-426e-88e3-a10cb589a0c6
DTSTAMP:20160321T153107Z
DTSTART:20160423T080000Z
DTEND:20160423T100000Z
SUMMARY:Årsstämma HSF 2016
LOCATION:Bystugan på Husarö
DESCRIPTION:Du hittar samtliga handlingar på http://www.husaro.se/hsf/
END:VEVENT
END:VCALENDAR